BEGIN:VCALENDAR
VERSION:2.0
PRODID:-//Salud Para La Gente - ECPv6.15.17.1//NONSGML v1.0//EN
CALSCALE:GREGORIAN
METHOD:PUBLISH
X-WR-CALNAME:Salud Para La Gente
X-ORIGINAL-URL:https://splg.org
X-WR-CALDESC:Events for Salud Para La Gente
REFRESH-INTERVAL;VALUE=DURATION:PT1H
X-Robots-Tag:noindex
X-PUBLISHED-TTL:PT1H
BEGIN:VTIMEZONE
TZID:America/Los_Angeles
BEGIN:DAYLIGHT
TZOFFSETFROM:-0800
TZOFFSETTO:-0700
TZNAME:PDT
DTSTART:20220313T100000
END:DAYLIGHT
BEGIN:STANDARD
TZOFFSETFROM:-0700
TZOFFSETTO:-0800
TZNAME:PST
DTSTART:20221106T090000
END:STANDARD
BEGIN:DAYLIGHT
TZOFFSETFROM:-0800
TZOFFSETTO:-0700
TZNAME:PDT
DTSTART:20230312T100000
END:DAYLIGHT
BEGIN:STANDARD
TZOFFSETFROM:-0700
TZOFFSETTO:-0800
TZNAME:PST
DTSTART:20231105T090000
END:STANDARD
BEGIN:DAYLIGHT
TZOFFSETFROM:-0800
TZOFFSETTO:-0700
TZNAME:PDT
DTSTART:20240310T100000
END:DAYLIGHT
BEGIN:STANDARD
TZOFFSETFROM:-0700
TZOFFSETTO:-0800
TZNAME:PST
DTSTART:20241103T090000
END:STANDARD
END:VTIMEZONE
BEGIN:VEVENT
DTSTART;TZID=America/Los_Angeles:20231214T083000
DTEND;TZID=America/Los_Angeles:20231214T120000
DTSTAMP:20260419T170324
CREATED:20230919T234340Z
LAST-MODIFIED:20230919T234934Z
UID:10000157-1702542600-1702555200@splg.org
SUMMARY:Teen Salud Mobile - Watsonville High School
DESCRIPTION:Watsonville High School\n250 East Beach St.\, Watsonville\, CA 95076\n*Dates and times subject to change. Please check with your school nurse for updates. \n \nTeen services offered: \n\nMedical care – sports physicals\, general medical and reproductive health.\nHealth and wellness – includes mental health and substance use support.\nHealth education\nCommunity support services\n\nFor appointments call or text (831) 764-3431or stop by anytime.
URL:https://splg.org/event/teen-salud-mobile-watsonville-high-school-2/2023-12-14/
LOCATION:Watsonville High School\, 250 East Beach St.\, Watsonville\, CA\, 95076\, United States
END:VEVENT
END:VCALENDAR