BEGIN:VCALENDAR
VERSION:2.0
PRODID:-//Salud Para La Gente - ECPv6.15.17.1//NONSGML v1.0//EN
CALSCALE:GREGORIAN
METHOD:PUBLISH
X-ORIGINAL-URL:https://splg.org
X-WR-CALDESC:Events for Salud Para La Gente
REFRESH-INTERVAL;VALUE=DURATION:PT1H
X-Robots-Tag:noindex
X-PUBLISHED-TTL:PT1H
BEGIN:VTIMEZONE
TZID:America/Los_Angeles
BEGIN:DAYLIGHT
TZOFFSETFROM:-0800
TZOFFSETTO:-0700
TZNAME:PDT
DTSTART:20220313T100000
END:DAYLIGHT
BEGIN:STANDARD
TZOFFSETFROM:-0700
TZOFFSETTO:-0800
TZNAME:PST
DTSTART:20221106T090000
END:STANDARD
BEGIN:DAYLIGHT
TZOFFSETFROM:-0800
TZOFFSETTO:-0700
TZNAME:PDT
DTSTART:20230312T100000
END:DAYLIGHT
BEGIN:STANDARD
TZOFFSETFROM:-0700
TZOFFSETTO:-0800
TZNAME:PST
DTSTART:20231105T090000
END:STANDARD
BEGIN:DAYLIGHT
TZOFFSETFROM:-0800
TZOFFSETTO:-0700
TZNAME:PDT
DTSTART:20240310T100000
END:DAYLIGHT
BEGIN:STANDARD
TZOFFSETFROM:-0700
TZOFFSETTO:-0800
TZNAME:PST
DTSTART:20241103T090000
END:STANDARD
END:VTIMEZONE
BEGIN:VEVENT
DTSTART;TZID=America/Los_Angeles:20231222T100000
DTEND;TZID=America/Los_Angeles:20231222T120000
DTSTAMP:20260419T211851
CREATED:20230915T201021Z
LAST-MODIFIED:20230919T231617Z
UID:10000058-1703239200-1703246400@splg.org
SUMMARY:Weekly Food Distribution
DESCRIPTION:Salud Para La Gente – Main Clinic\n112 East Beach Street\, Watsonville\, CA\nBack Entrance of United Presbyterian Church \nEvery Friday\n10:00 AM – 12:00 PM \nFamilies can pick up free produce and other staples. For more information\, call Community Health Services at (831) 764-3431.
URL:https://splg.org/event/salud-para-la-gente-main-clinic-food-distribution-dec2822-2/2023-12-22/
LOCATION:Salud Para La Gente Main Clinic – Weekly Food Distribution\, 112 East Beach Street\, Watsonville\, CA\, United States
END:VEVENT
END:VCALENDAR