BEGIN:VCALENDAR
VERSION:2.0
PRODID:-//Salud Para La Gente - ECPv6.15.17.1//NONSGML v1.0//EN
CALSCALE:GREGORIAN
METHOD:PUBLISH
X-ORIGINAL-URL:https://splg.org
X-WR-CALDESC:Events for Salud Para La Gente
REFRESH-INTERVAL;VALUE=DURATION:PT1H
X-Robots-Tag:noindex
X-PUBLISHED-TTL:PT1H
BEGIN:VTIMEZONE
TZID:America/Los_Angeles
BEGIN:DAYLIGHT
TZOFFSETFROM:-0800
TZOFFSETTO:-0700
TZNAME:PDT
DTSTART:20230312T100000
END:DAYLIGHT
BEGIN:STANDARD
TZOFFSETFROM:-0700
TZOFFSETTO:-0800
TZNAME:PST
DTSTART:20231105T090000
END:STANDARD
BEGIN:DAYLIGHT
TZOFFSETFROM:-0800
TZOFFSETTO:-0700
TZNAME:PDT
DTSTART:20240310T100000
END:DAYLIGHT
BEGIN:STANDARD
TZOFFSETFROM:-0700
TZOFFSETTO:-0800
TZNAME:PST
DTSTART:20241103T090000
END:STANDARD
BEGIN:DAYLIGHT
TZOFFSETFROM:-0800
TZOFFSETTO:-0700
TZNAME:PDT
DTSTART:20250309T100000
END:DAYLIGHT
BEGIN:STANDARD
TZOFFSETFROM:-0700
TZOFFSETTO:-0800
TZNAME:PST
DTSTART:20251102T090000
END:STANDARD
END:VTIMEZONE
BEGIN:VEVENT
DTSTART;TZID=America/Los_Angeles:20240116T083000
DTEND;TZID=America/Los_Angeles:20240116T150000
DTSTAMP:20260421T022805
CREATED:20231227T194710Z
LAST-MODIFIED:20231227T200413Z
UID:10000195-1705393800-1705417200@splg.org
SUMMARY:Teen Salud Mobile - Aptos High -Winter-Spring 2024
DESCRIPTION:Aptos High School\n100 Mariner Way\, Aptos\, CA 95003\n*Dates and times subject to change. Please check with your school nurse for updates. \nTeen services offered: \n\nMedical care – sports physicals\, general medical and reproductive health.\nHealth and wellness – includes mental health and substance use support.\nHealth education\nCommunity support services\n\nFor appointments call or text (831) 764-3431or stop by anytime.
URL:https://splg.org/event/teen-salud-mobile-aptos-high-winter-spring2024/2024-01-16/
LOCATION:Aptos High School\, 100 Mariner Way\, Aptos\, CA\, 95003\, United States
END:VEVENT
BEGIN:VEVENT
DTSTART;TZID=America/Los_Angeles:20240117T083000
DTEND;TZID=America/Los_Angeles:20240117T120000
DTSTAMP:20260421T022805
CREATED:20231227T195347Z
LAST-MODIFIED:20231227T200451Z
UID:10000486-1705480200-1705492800@splg.org
SUMMARY:Teen Salud Mobile - Aptos High -Winter-Spring 2024
DESCRIPTION:Aptos High School\n100 Mariner Way\, Aptos\, CA 95003\n*Dates and times subject to change. Please check with your school nurse for updates. \nTeen services offered: \n\nMedical care – sports physicals\, general medical and reproductive health.\nHealth and wellness – includes mental health and substance use support.\nHealth education\nCommunity support services\n\nFor appointments call or text (831) 764-3431or stop by anytime.
URL:https://splg.org/event/teen-salud-mobile-aptos-high-winter-spring-2024/2024-01-17/
LOCATION:Aptos High School\, 100 Mariner Way\, Aptos\, CA\, 95003\, United States
END:VEVENT
BEGIN:VEVENT
DTSTART;TZID=America/Los_Angeles:20240118T083000
DTEND;TZID=America/Los_Angeles:20240118T120000
DTSTAMP:20260421T022805
CREATED:20231227T200150Z
LAST-MODIFIED:20231227T200246Z
UID:10000601-1705566600-1705579200@splg.org
SUMMARY:Teen Salud Mobile - Watsonville High School -Winter-Spring 2024
DESCRIPTION:Watsonville High School\n250 East Beach St.\, Watsonville\, CA 95076\n*Dates and times subject to change. Please check with your school nurse for updates. \n  \nTeen services offered: \n\nMedical care – sports physicals\, general medical and reproductive health.\nHealth and wellness – includes mental health and substance use support.\nHealth education\nCommunity support services\n\nFor appointments call or text (831) 764-3431or stop by anytime.
URL:https://splg.org/event/teen-salud-mobile-watsonville-high-school-winter-spring-2024/2024-01-18/
LOCATION:Watsonville High School\, 250 East Beach St.\, Watsonville\, CA\, 95076\, United States
END:VEVENT
BEGIN:VEVENT
DTSTART;TZID=America/Los_Angeles:20240119T083000
DTEND;TZID=America/Los_Angeles:20240119T120000
DTSTAMP:20260421T022805
CREATED:20231227T200150Z
LAST-MODIFIED:20231227T200246Z
UID:10000602-1705653000-1705665600@splg.org
SUMMARY:Teen Salud Mobile - Watsonville High School -Winter-Spring 2024
DESCRIPTION:Watsonville High School\n250 East Beach St.\, Watsonville\, CA 95076\n*Dates and times subject to change. Please check with your school nurse for updates. \n  \nTeen services offered: \n\nMedical care – sports physicals\, general medical and reproductive health.\nHealth and wellness – includes mental health and substance use support.\nHealth education\nCommunity support services\n\nFor appointments call or text (831) 764-3431or stop by anytime.
URL:https://splg.org/event/teen-salud-mobile-watsonville-high-school-winter-spring-2024/2024-01-19/
LOCATION:Watsonville High School\, 250 East Beach St.\, Watsonville\, CA\, 95076\, United States
END:VEVENT
BEGIN:VEVENT
DTSTART;TZID=America/Los_Angeles:20240123T083000
DTEND;TZID=America/Los_Angeles:20240123T150000
DTSTAMP:20260421T022805
CREATED:20231227T194710Z
LAST-MODIFIED:20231227T200413Z
UID:10000558-1705998600-1706022000@splg.org
SUMMARY:Teen Salud Mobile - Aptos High -Winter-Spring 2024
DESCRIPTION:Aptos High School\n100 Mariner Way\, Aptos\, CA 95003\n*Dates and times subject to change. Please check with your school nurse for updates. \nTeen services offered: \n\nMedical care – sports physicals\, general medical and reproductive health.\nHealth and wellness – includes mental health and substance use support.\nHealth education\nCommunity support services\n\nFor appointments call or text (831) 764-3431or stop by anytime.
URL:https://splg.org/event/teen-salud-mobile-aptos-high-winter-spring2024/2024-01-23/
LOCATION:Aptos High School\, 100 Mariner Way\, Aptos\, CA\, 95003\, United States
END:VEVENT
BEGIN:VEVENT
DTSTART;TZID=America/Los_Angeles:20240124T083000
DTEND;TZID=America/Los_Angeles:20240124T120000
DTSTAMP:20260421T022805
CREATED:20231227T195347Z
LAST-MODIFIED:20231227T200451Z
UID:10000487-1706085000-1706097600@splg.org
SUMMARY:Teen Salud Mobile - Aptos High -Winter-Spring 2024
DESCRIPTION:Aptos High School\n100 Mariner Way\, Aptos\, CA 95003\n*Dates and times subject to change. Please check with your school nurse for updates. \nTeen services offered: \n\nMedical care – sports physicals\, general medical and reproductive health.\nHealth and wellness – includes mental health and substance use support.\nHealth education\nCommunity support services\n\nFor appointments call or text (831) 764-3431or stop by anytime.
URL:https://splg.org/event/teen-salud-mobile-aptos-high-winter-spring-2024/2024-01-24/
LOCATION:Aptos High School\, 100 Mariner Way\, Aptos\, CA\, 95003\, United States
END:VEVENT
BEGIN:VEVENT
DTSTART;TZID=America/Los_Angeles:20240125T083000
DTEND;TZID=America/Los_Angeles:20240125T120000
DTSTAMP:20260421T022805
CREATED:20231227T200150Z
LAST-MODIFIED:20231227T200246Z
UID:10000603-1706171400-1706184000@splg.org
SUMMARY:Teen Salud Mobile - Watsonville High School -Winter-Spring 2024
DESCRIPTION:Watsonville High School\n250 East Beach St.\, Watsonville\, CA 95076\n*Dates and times subject to change. Please check with your school nurse for updates. \n  \nTeen services offered: \n\nMedical care – sports physicals\, general medical and reproductive health.\nHealth and wellness – includes mental health and substance use support.\nHealth education\nCommunity support services\n\nFor appointments call or text (831) 764-3431or stop by anytime.
URL:https://splg.org/event/teen-salud-mobile-watsonville-high-school-winter-spring-2024/2024-01-25/
LOCATION:Watsonville High School\, 250 East Beach St.\, Watsonville\, CA\, 95076\, United States
END:VEVENT
BEGIN:VEVENT
DTSTART;TZID=America/Los_Angeles:20240126T083000
DTEND;TZID=America/Los_Angeles:20240126T120000
DTSTAMP:20260421T022805
CREATED:20231227T200150Z
LAST-MODIFIED:20231227T200246Z
UID:10000604-1706257800-1706270400@splg.org
SUMMARY:Teen Salud Mobile - Watsonville High School -Winter-Spring 2024
DESCRIPTION:Watsonville High School\n250 East Beach St.\, Watsonville\, CA 95076\n*Dates and times subject to change. Please check with your school nurse for updates. \n  \nTeen services offered: \n\nMedical care – sports physicals\, general medical and reproductive health.\nHealth and wellness – includes mental health and substance use support.\nHealth education\nCommunity support services\n\nFor appointments call or text (831) 764-3431or stop by anytime.
URL:https://splg.org/event/teen-salud-mobile-watsonville-high-school-winter-spring-2024/2024-01-26/
LOCATION:Watsonville High School\, 250 East Beach St.\, Watsonville\, CA\, 95076\, United States
END:VEVENT
BEGIN:VEVENT
DTSTART;TZID=America/Los_Angeles:20240130T083000
DTEND;TZID=America/Los_Angeles:20240130T150000
DTSTAMP:20260421T022805
CREATED:20231227T194710Z
LAST-MODIFIED:20231227T200413Z
UID:10000559-1706603400-1706626800@splg.org
SUMMARY:Teen Salud Mobile - Aptos High -Winter-Spring 2024
DESCRIPTION:Aptos High School\n100 Mariner Way\, Aptos\, CA 95003\n*Dates and times subject to change. Please check with your school nurse for updates. \nTeen services offered: \n\nMedical care – sports physicals\, general medical and reproductive health.\nHealth and wellness – includes mental health and substance use support.\nHealth education\nCommunity support services\n\nFor appointments call or text (831) 764-3431or stop by anytime.
URL:https://splg.org/event/teen-salud-mobile-aptos-high-winter-spring2024/2024-01-30/
LOCATION:Aptos High School\, 100 Mariner Way\, Aptos\, CA\, 95003\, United States
END:VEVENT
BEGIN:VEVENT
DTSTART;TZID=America/Los_Angeles:20240131T083000
DTEND;TZID=America/Los_Angeles:20240131T120000
DTSTAMP:20260421T022805
CREATED:20231227T195347Z
LAST-MODIFIED:20231227T200451Z
UID:10000488-1706689800-1706702400@splg.org
SUMMARY:Teen Salud Mobile - Aptos High -Winter-Spring 2024
DESCRIPTION:Aptos High School\n100 Mariner Way\, Aptos\, CA 95003\n*Dates and times subject to change. Please check with your school nurse for updates. \nTeen services offered: \n\nMedical care – sports physicals\, general medical and reproductive health.\nHealth and wellness – includes mental health and substance use support.\nHealth education\nCommunity support services\n\nFor appointments call or text (831) 764-3431or stop by anytime.
URL:https://splg.org/event/teen-salud-mobile-aptos-high-winter-spring-2024/2024-01-31/
LOCATION:Aptos High School\, 100 Mariner Way\, Aptos\, CA\, 95003\, United States
END:VEVENT
END:VCALENDAR