BEGIN:VCALENDAR
VERSION:2.0
PRODID:-//Salud Para La Gente - ECPv6.15.17.1//NONSGML v1.0//EN
CALSCALE:GREGORIAN
METHOD:PUBLISH
X-WR-CALNAME:Salud Para La Gente
X-ORIGINAL-URL:https://splg.org
X-WR-CALDESC:Events for Salud Para La Gente
REFRESH-INTERVAL;VALUE=DURATION:PT1H
X-Robots-Tag:noindex
X-PUBLISHED-TTL:PT1H
BEGIN:VTIMEZONE
TZID:America/Los_Angeles
BEGIN:DAYLIGHT
TZOFFSETFROM:-0800
TZOFFSETTO:-0700
TZNAME:PDT
DTSTART:20220313T100000
END:DAYLIGHT
BEGIN:STANDARD
TZOFFSETFROM:-0700
TZOFFSETTO:-0800
TZNAME:PST
DTSTART:20221106T090000
END:STANDARD
BEGIN:DAYLIGHT
TZOFFSETFROM:-0800
TZOFFSETTO:-0700
TZNAME:PDT
DTSTART:20230312T100000
END:DAYLIGHT
BEGIN:STANDARD
TZOFFSETFROM:-0700
TZOFFSETTO:-0800
TZNAME:PST
DTSTART:20231105T090000
END:STANDARD
BEGIN:DAYLIGHT
TZOFFSETFROM:-0800
TZOFFSETTO:-0700
TZNAME:PDT
DTSTART:20240310T100000
END:DAYLIGHT
BEGIN:STANDARD
TZOFFSETFROM:-0700
TZOFFSETTO:-0800
TZNAME:PST
DTSTART:20241103T090000
END:STANDARD
BEGIN:DAYLIGHT
TZOFFSETFROM:-0800
TZOFFSETTO:-0700
TZNAME:PDT
DTSTART:20250309T100000
END:DAYLIGHT
BEGIN:STANDARD
TZOFFSETFROM:-0700
TZOFFSETTO:-0800
TZNAME:PST
DTSTART:20251102T090000
END:STANDARD
END:VTIMEZONE
BEGIN:VEVENT
DTSTART;TZID=America/Los_Angeles:20240209T083000
DTEND;TZID=America/Los_Angeles:20240209T120000
DTSTAMP:20260420T084818
CREATED:20231227T200150Z
LAST-MODIFIED:20231227T200246Z
UID:10000608-1707467400-1707480000@splg.org
SUMMARY:Teen Salud Mobile - Watsonville High School -Winter-Spring 2024
DESCRIPTION:Watsonville High School\n250 East Beach St.\, Watsonville\, CA 95076\n*Dates and times subject to change. Please check with your school nurse for updates. \n  \nTeen services offered: \n\nMedical care – sports physicals\, general medical and reproductive health.\nHealth and wellness – includes mental health and substance use support.\nHealth education\nCommunity support services\n\nFor appointments call or text (831) 764-3431or stop by anytime.
URL:https://splg.org/event/teen-salud-mobile-watsonville-high-school-winter-spring-2024/2024-02-09/
LOCATION:Watsonville High School\, 250 East Beach St.\, Watsonville\, CA\, 95076\, United States
END:VEVENT
BEGIN:VEVENT
DTSTART;TZID=America/Los_Angeles:20240208T083000
DTEND;TZID=America/Los_Angeles:20240208T120000
DTSTAMP:20260420T084818
CREATED:20231227T200150Z
LAST-MODIFIED:20231227T200246Z
UID:10000607-1707381000-1707393600@splg.org
SUMMARY:Teen Salud Mobile - Watsonville High School -Winter-Spring 2024
DESCRIPTION:Watsonville High School\n250 East Beach St.\, Watsonville\, CA 95076\n*Dates and times subject to change. Please check with your school nurse for updates. \n  \nTeen services offered: \n\nMedical care – sports physicals\, general medical and reproductive health.\nHealth and wellness – includes mental health and substance use support.\nHealth education\nCommunity support services\n\nFor appointments call or text (831) 764-3431or stop by anytime.
URL:https://splg.org/event/teen-salud-mobile-watsonville-high-school-winter-spring-2024/2024-02-08/
LOCATION:Watsonville High School\, 250 East Beach St.\, Watsonville\, CA\, 95076\, United States
END:VEVENT
BEGIN:VEVENT
DTSTART;TZID=America/Los_Angeles:20240202T083000
DTEND;TZID=America/Los_Angeles:20240202T120000
DTSTAMP:20260420T084818
CREATED:20231227T200150Z
LAST-MODIFIED:20231227T200246Z
UID:10000606-1706862600-1706875200@splg.org
SUMMARY:Teen Salud Mobile - Watsonville High School -Winter-Spring 2024
DESCRIPTION:Watsonville High School\n250 East Beach St.\, Watsonville\, CA 95076\n*Dates and times subject to change. Please check with your school nurse for updates. \n  \nTeen services offered: \n\nMedical care – sports physicals\, general medical and reproductive health.\nHealth and wellness – includes mental health and substance use support.\nHealth education\nCommunity support services\n\nFor appointments call or text (831) 764-3431or stop by anytime.
URL:https://splg.org/event/teen-salud-mobile-watsonville-high-school-winter-spring-2024/2024-02-02/
LOCATION:Watsonville High School\, 250 East Beach St.\, Watsonville\, CA\, 95076\, United States
END:VEVENT
BEGIN:VEVENT
DTSTART;TZID=America/Los_Angeles:20240201T083000
DTEND;TZID=America/Los_Angeles:20240201T120000
DTSTAMP:20260420T084818
CREATED:20231227T200150Z
LAST-MODIFIED:20231227T200246Z
UID:10000605-1706776200-1706788800@splg.org
SUMMARY:Teen Salud Mobile - Watsonville High School -Winter-Spring 2024
DESCRIPTION:Watsonville High School\n250 East Beach St.\, Watsonville\, CA 95076\n*Dates and times subject to change. Please check with your school nurse for updates. \n  \nTeen services offered: \n\nMedical care – sports physicals\, general medical and reproductive health.\nHealth and wellness – includes mental health and substance use support.\nHealth education\nCommunity support services\n\nFor appointments call or text (831) 764-3431or stop by anytime.
URL:https://splg.org/event/teen-salud-mobile-watsonville-high-school-winter-spring-2024/2024-02-01/
LOCATION:Watsonville High School\, 250 East Beach St.\, Watsonville\, CA\, 95076\, United States
END:VEVENT
BEGIN:VEVENT
DTSTART;TZID=America/Los_Angeles:20240126T083000
DTEND;TZID=America/Los_Angeles:20240126T120000
DTSTAMP:20260420T084818
CREATED:20231227T200150Z
LAST-MODIFIED:20231227T200246Z
UID:10000604-1706257800-1706270400@splg.org
SUMMARY:Teen Salud Mobile - Watsonville High School -Winter-Spring 2024
DESCRIPTION:Watsonville High School\n250 East Beach St.\, Watsonville\, CA 95076\n*Dates and times subject to change. Please check with your school nurse for updates. \n  \nTeen services offered: \n\nMedical care – sports physicals\, general medical and reproductive health.\nHealth and wellness – includes mental health and substance use support.\nHealth education\nCommunity support services\n\nFor appointments call or text (831) 764-3431or stop by anytime.
URL:https://splg.org/event/teen-salud-mobile-watsonville-high-school-winter-spring-2024/2024-01-26/
LOCATION:Watsonville High School\, 250 East Beach St.\, Watsonville\, CA\, 95076\, United States
END:VEVENT
BEGIN:VEVENT
DTSTART;TZID=America/Los_Angeles:20240125T083000
DTEND;TZID=America/Los_Angeles:20240125T120000
DTSTAMP:20260420T084818
CREATED:20231227T200150Z
LAST-MODIFIED:20231227T200246Z
UID:10000603-1706171400-1706184000@splg.org
SUMMARY:Teen Salud Mobile - Watsonville High School -Winter-Spring 2024
DESCRIPTION:Watsonville High School\n250 East Beach St.\, Watsonville\, CA 95076\n*Dates and times subject to change. Please check with your school nurse for updates. \n  \nTeen services offered: \n\nMedical care – sports physicals\, general medical and reproductive health.\nHealth and wellness – includes mental health and substance use support.\nHealth education\nCommunity support services\n\nFor appointments call or text (831) 764-3431or stop by anytime.
URL:https://splg.org/event/teen-salud-mobile-watsonville-high-school-winter-spring-2024/2024-01-25/
LOCATION:Watsonville High School\, 250 East Beach St.\, Watsonville\, CA\, 95076\, United States
END:VEVENT
BEGIN:VEVENT
DTSTART;TZID=America/Los_Angeles:20240119T083000
DTEND;TZID=America/Los_Angeles:20240119T120000
DTSTAMP:20260420T084818
CREATED:20231227T200150Z
LAST-MODIFIED:20231227T200246Z
UID:10000602-1705653000-1705665600@splg.org
SUMMARY:Teen Salud Mobile - Watsonville High School -Winter-Spring 2024
DESCRIPTION:Watsonville High School\n250 East Beach St.\, Watsonville\, CA 95076\n*Dates and times subject to change. Please check with your school nurse for updates. \n  \nTeen services offered: \n\nMedical care – sports physicals\, general medical and reproductive health.\nHealth and wellness – includes mental health and substance use support.\nHealth education\nCommunity support services\n\nFor appointments call or text (831) 764-3431or stop by anytime.
URL:https://splg.org/event/teen-salud-mobile-watsonville-high-school-winter-spring-2024/2024-01-19/
LOCATION:Watsonville High School\, 250 East Beach St.\, Watsonville\, CA\, 95076\, United States
END:VEVENT
BEGIN:VEVENT
DTSTART;TZID=America/Los_Angeles:20240118T083000
DTEND;TZID=America/Los_Angeles:20240118T120000
DTSTAMP:20260420T084818
CREATED:20231227T200150Z
LAST-MODIFIED:20231227T200246Z
UID:10000601-1705566600-1705579200@splg.org
SUMMARY:Teen Salud Mobile - Watsonville High School -Winter-Spring 2024
DESCRIPTION:Watsonville High School\n250 East Beach St.\, Watsonville\, CA 95076\n*Dates and times subject to change. Please check with your school nurse for updates. \n  \nTeen services offered: \n\nMedical care – sports physicals\, general medical and reproductive health.\nHealth and wellness – includes mental health and substance use support.\nHealth education\nCommunity support services\n\nFor appointments call or text (831) 764-3431or stop by anytime.
URL:https://splg.org/event/teen-salud-mobile-watsonville-high-school-winter-spring-2024/2024-01-18/
LOCATION:Watsonville High School\, 250 East Beach St.\, Watsonville\, CA\, 95076\, United States
END:VEVENT
BEGIN:VEVENT
DTSTART;TZID=America/Los_Angeles:20231215T083000
DTEND;TZID=America/Los_Angeles:20231215T120000
DTSTAMP:20260420T084818
CREATED:20230919T234340Z
LAST-MODIFIED:20230919T234934Z
UID:10000173-1702629000-1702641600@splg.org
SUMMARY:Teen Salud Mobile - Watsonville High School
DESCRIPTION:Watsonville High School\n250 East Beach St.\, Watsonville\, CA 95076\n*Dates and times subject to change. Please check with your school nurse for updates. \n \nTeen services offered: \n\nMedical care – sports physicals\, general medical and reproductive health.\nHealth and wellness – includes mental health and substance use support.\nHealth education\nCommunity support services\n\nFor appointments call or text (831) 764-3431or stop by anytime.
URL:https://splg.org/event/teen-salud-mobile-watsonville-high-school-2/2023-12-15/
LOCATION:Watsonville High School\, 250 East Beach St.\, Watsonville\, CA\, 95076\, United States
END:VEVENT
BEGIN:VEVENT
DTSTART;TZID=America/Los_Angeles:20231214T083000
DTEND;TZID=America/Los_Angeles:20231214T120000
DTSTAMP:20260420T084818
CREATED:20230919T234340Z
LAST-MODIFIED:20230919T234934Z
UID:10000157-1702542600-1702555200@splg.org
SUMMARY:Teen Salud Mobile - Watsonville High School
DESCRIPTION:Watsonville High School\n250 East Beach St.\, Watsonville\, CA 95076\n*Dates and times subject to change. Please check with your school nurse for updates. \n \nTeen services offered: \n\nMedical care – sports physicals\, general medical and reproductive health.\nHealth and wellness – includes mental health and substance use support.\nHealth education\nCommunity support services\n\nFor appointments call or text (831) 764-3431or stop by anytime.
URL:https://splg.org/event/teen-salud-mobile-watsonville-high-school-2/2023-12-14/
LOCATION:Watsonville High School\, 250 East Beach St.\, Watsonville\, CA\, 95076\, United States
END:VEVENT
BEGIN:VEVENT
DTSTART;TZID=America/Los_Angeles:20231208T083000
DTEND;TZID=America/Los_Angeles:20231208T120000
DTSTAMP:20260420T084818
CREATED:20230919T234340Z
LAST-MODIFIED:20230919T234934Z
UID:10000172-1702024200-1702036800@splg.org
SUMMARY:Teen Salud Mobile - Watsonville High School
DESCRIPTION:Watsonville High School\n250 East Beach St.\, Watsonville\, CA 95076\n*Dates and times subject to change. Please check with your school nurse for updates. \n \nTeen services offered: \n\nMedical care – sports physicals\, general medical and reproductive health.\nHealth and wellness – includes mental health and substance use support.\nHealth education\nCommunity support services\n\nFor appointments call or text (831) 764-3431or stop by anytime.
URL:https://splg.org/event/teen-salud-mobile-watsonville-high-school-2/2023-12-08/
LOCATION:Watsonville High School\, 250 East Beach St.\, Watsonville\, CA\, 95076\, United States
END:VEVENT
BEGIN:VEVENT
DTSTART;TZID=America/Los_Angeles:20231207T083000
DTEND;TZID=America/Los_Angeles:20231207T120000
DTSTAMP:20260420T084818
CREATED:20230919T234340Z
LAST-MODIFIED:20230919T234934Z
UID:10000156-1701937800-1701950400@splg.org
SUMMARY:Teen Salud Mobile - Watsonville High School
DESCRIPTION:Watsonville High School\n250 East Beach St.\, Watsonville\, CA 95076\n*Dates and times subject to change. Please check with your school nurse for updates. \n \nTeen services offered: \n\nMedical care – sports physicals\, general medical and reproductive health.\nHealth and wellness – includes mental health and substance use support.\nHealth education\nCommunity support services\n\nFor appointments call or text (831) 764-3431or stop by anytime.
URL:https://splg.org/event/teen-salud-mobile-watsonville-high-school-2/2023-12-07/
LOCATION:Watsonville High School\, 250 East Beach St.\, Watsonville\, CA\, 95076\, United States
END:VEVENT
BEGIN:VEVENT
DTSTART;TZID=America/Los_Angeles:20231201T083000
DTEND;TZID=America/Los_Angeles:20231201T120000
DTSTAMP:20260420T084818
CREATED:20230919T234340Z
LAST-MODIFIED:20230919T234934Z
UID:10000171-1701419400-1701432000@splg.org
SUMMARY:Teen Salud Mobile - Watsonville High School
DESCRIPTION:Watsonville High School\n250 East Beach St.\, Watsonville\, CA 95076\n*Dates and times subject to change. Please check with your school nurse for updates. \n \nTeen services offered: \n\nMedical care – sports physicals\, general medical and reproductive health.\nHealth and wellness – includes mental health and substance use support.\nHealth education\nCommunity support services\n\nFor appointments call or text (831) 764-3431or stop by anytime.
URL:https://splg.org/event/teen-salud-mobile-watsonville-high-school-2/2023-12-01/
LOCATION:Watsonville High School\, 250 East Beach St.\, Watsonville\, CA\, 95076\, United States
END:VEVENT
BEGIN:VEVENT
DTSTART;TZID=America/Los_Angeles:20231130T083000
DTEND;TZID=America/Los_Angeles:20231130T120000
DTSTAMP:20260420T084818
CREATED:20230919T234340Z
LAST-MODIFIED:20230919T234934Z
UID:10000155-1701333000-1701345600@splg.org
SUMMARY:Teen Salud Mobile - Watsonville High School
DESCRIPTION:Watsonville High School\n250 East Beach St.\, Watsonville\, CA 95076\n*Dates and times subject to change. Please check with your school nurse for updates. \n \nTeen services offered: \n\nMedical care – sports physicals\, general medical and reproductive health.\nHealth and wellness – includes mental health and substance use support.\nHealth education\nCommunity support services\n\nFor appointments call or text (831) 764-3431or stop by anytime.
URL:https://splg.org/event/teen-salud-mobile-watsonville-high-school-2/2023-11-30/
LOCATION:Watsonville High School\, 250 East Beach St.\, Watsonville\, CA\, 95076\, United States
END:VEVENT
BEGIN:VEVENT
DTSTART;TZID=America/Los_Angeles:20231117T083000
DTEND;TZID=America/Los_Angeles:20231117T120000
DTSTAMP:20260420T084818
CREATED:20230919T234340Z
LAST-MODIFIED:20230919T234934Z
UID:10000169-1700209800-1700222400@splg.org
SUMMARY:Teen Salud Mobile - Watsonville High School
DESCRIPTION:Watsonville High School\n250 East Beach St.\, Watsonville\, CA 95076\n*Dates and times subject to change. Please check with your school nurse for updates. \n \nTeen services offered: \n\nMedical care – sports physicals\, general medical and reproductive health.\nHealth and wellness – includes mental health and substance use support.\nHealth education\nCommunity support services\n\nFor appointments call or text (831) 764-3431or stop by anytime.
URL:https://splg.org/event/teen-salud-mobile-watsonville-high-school-2/2023-11-17/
LOCATION:Watsonville High School\, 250 East Beach St.\, Watsonville\, CA\, 95076\, United States
END:VEVENT
BEGIN:VEVENT
DTSTART;TZID=America/Los_Angeles:20231110T083000
DTEND;TZID=America/Los_Angeles:20231110T120000
DTSTAMP:20260420T084818
CREATED:20230919T234340Z
LAST-MODIFIED:20230919T234934Z
UID:10000177-1699605000-1699617600@splg.org
SUMMARY:Teen Salud Mobile - Watsonville High School
DESCRIPTION:Watsonville High School\n250 East Beach St.\, Watsonville\, CA 95076\n*Dates and times subject to change. Please check with your school nurse for updates. \n \nTeen services offered: \n\nMedical care – sports physicals\, general medical and reproductive health.\nHealth and wellness – includes mental health and substance use support.\nHealth education\nCommunity support services\n\nFor appointments call or text (831) 764-3431or stop by anytime.
URL:https://splg.org/event/teen-salud-mobile-watsonville-high-school-2/2023-11-10/
LOCATION:Watsonville High School\, 250 East Beach St.\, Watsonville\, CA\, 95076\, United States
END:VEVENT
BEGIN:VEVENT
DTSTART;TZID=America/Los_Angeles:20231103T083000
DTEND;TZID=America/Los_Angeles:20231103T120000
DTSTAMP:20260420T084818
CREATED:20230919T234340Z
LAST-MODIFIED:20230919T234934Z
UID:10000167-1699000200-1699012800@splg.org
SUMMARY:Teen Salud Mobile - Watsonville High School
DESCRIPTION:Watsonville High School\n250 East Beach St.\, Watsonville\, CA 95076\n*Dates and times subject to change. Please check with your school nurse for updates. \n \nTeen services offered: \n\nMedical care – sports physicals\, general medical and reproductive health.\nHealth and wellness – includes mental health and substance use support.\nHealth education\nCommunity support services\n\nFor appointments call or text (831) 764-3431or stop by anytime.
URL:https://splg.org/event/teen-salud-mobile-watsonville-high-school-2/2023-11-03/
LOCATION:Watsonville High School\, 250 East Beach St.\, Watsonville\, CA\, 95076\, United States
END:VEVENT
BEGIN:VEVENT
DTSTART;TZID=America/Los_Angeles:20231027T083000
DTEND;TZID=America/Los_Angeles:20231027T120000
DTSTAMP:20260420T084818
CREATED:20230919T234340Z
LAST-MODIFIED:20230919T234934Z
UID:10000166-1698395400-1698408000@splg.org
SUMMARY:Teen Salud Mobile - Watsonville High School
DESCRIPTION:Watsonville High School\n250 East Beach St.\, Watsonville\, CA 95076\n*Dates and times subject to change. Please check with your school nurse for updates. \n \nTeen services offered: \n\nMedical care – sports physicals\, general medical and reproductive health.\nHealth and wellness – includes mental health and substance use support.\nHealth education\nCommunity support services\n\nFor appointments call or text (831) 764-3431or stop by anytime.
URL:https://splg.org/event/teen-salud-mobile-watsonville-high-school-2/2023-10-27/
LOCATION:Watsonville High School\, 250 East Beach St.\, Watsonville\, CA\, 95076\, United States
END:VEVENT
BEGIN:VEVENT
DTSTART;TZID=America/Los_Angeles:20231026T083000
DTEND;TZID=America/Los_Angeles:20231026T120000
DTSTAMP:20260420T084818
CREATED:20230919T234340Z
LAST-MODIFIED:20230919T234934Z
UID:10000150-1698309000-1698321600@splg.org
SUMMARY:Teen Salud Mobile - Watsonville High School
DESCRIPTION:Watsonville High School\n250 East Beach St.\, Watsonville\, CA 95076\n*Dates and times subject to change. Please check with your school nurse for updates. \n \nTeen services offered: \n\nMedical care – sports physicals\, general medical and reproductive health.\nHealth and wellness – includes mental health and substance use support.\nHealth education\nCommunity support services\n\nFor appointments call or text (831) 764-3431or stop by anytime.
URL:https://splg.org/event/teen-salud-mobile-watsonville-high-school-2/2023-10-26/
LOCATION:Watsonville High School\, 250 East Beach St.\, Watsonville\, CA\, 95076\, United States
END:VEVENT
BEGIN:VEVENT
DTSTART;TZID=America/Los_Angeles:20231020T083000
DTEND;TZID=America/Los_Angeles:20231020T120000
DTSTAMP:20260420T084818
CREATED:20230919T234340Z
LAST-MODIFIED:20230919T234934Z
UID:10000165-1697790600-1697803200@splg.org
SUMMARY:Teen Salud Mobile - Watsonville High School
DESCRIPTION:Watsonville High School\n250 East Beach St.\, Watsonville\, CA 95076\n*Dates and times subject to change. Please check with your school nurse for updates. \n \nTeen services offered: \n\nMedical care – sports physicals\, general medical and reproductive health.\nHealth and wellness – includes mental health and substance use support.\nHealth education\nCommunity support services\n\nFor appointments call or text (831) 764-3431or stop by anytime.
URL:https://splg.org/event/teen-salud-mobile-watsonville-high-school-2/2023-10-20/
LOCATION:Watsonville High School\, 250 East Beach St.\, Watsonville\, CA\, 95076\, United States
END:VEVENT
BEGIN:VEVENT
DTSTART;TZID=America/Los_Angeles:20231019T083000
DTEND;TZID=America/Los_Angeles:20231019T120000
DTSTAMP:20260420T084818
CREATED:20230919T234340Z
LAST-MODIFIED:20230919T234934Z
UID:10000149-1697704200-1697716800@splg.org
SUMMARY:Teen Salud Mobile - Watsonville High School
DESCRIPTION:Watsonville High School\n250 East Beach St.\, Watsonville\, CA 95076\n*Dates and times subject to change. Please check with your school nurse for updates. \n \nTeen services offered: \n\nMedical care – sports physicals\, general medical and reproductive health.\nHealth and wellness – includes mental health and substance use support.\nHealth education\nCommunity support services\n\nFor appointments call or text (831) 764-3431or stop by anytime.
URL:https://splg.org/event/teen-salud-mobile-watsonville-high-school-2/2023-10-19/
LOCATION:Watsonville High School\, 250 East Beach St.\, Watsonville\, CA\, 95076\, United States
END:VEVENT
BEGIN:VEVENT
DTSTART;TZID=America/Los_Angeles:20231013T083000
DTEND;TZID=America/Los_Angeles:20231013T120000
DTSTAMP:20260420T084818
CREATED:20230919T234340Z
LAST-MODIFIED:20230919T234934Z
UID:10000176-1697185800-1697198400@splg.org
SUMMARY:Teen Salud Mobile - Watsonville High School
DESCRIPTION:Watsonville High School\n250 East Beach St.\, Watsonville\, CA 95076\n*Dates and times subject to change. Please check with your school nurse for updates. \n \nTeen services offered: \n\nMedical care – sports physicals\, general medical and reproductive health.\nHealth and wellness – includes mental health and substance use support.\nHealth education\nCommunity support services\n\nFor appointments call or text (831) 764-3431or stop by anytime.
URL:https://splg.org/event/teen-salud-mobile-watsonville-high-school-2/2023-10-13/
LOCATION:Watsonville High School\, 250 East Beach St.\, Watsonville\, CA\, 95076\, United States
END:VEVENT
BEGIN:VEVENT
DTSTART;TZID=America/Los_Angeles:20231012T083000
DTEND;TZID=America/Los_Angeles:20231012T120000
DTSTAMP:20260420T084818
CREATED:20230919T234340Z
LAST-MODIFIED:20230919T234934Z
UID:10000148-1697099400-1697112000@splg.org
SUMMARY:Teen Salud Mobile - Watsonville High School
DESCRIPTION:Watsonville High School\n250 East Beach St.\, Watsonville\, CA 95076\n*Dates and times subject to change. Please check with your school nurse for updates. \n \nTeen services offered: \n\nMedical care – sports physicals\, general medical and reproductive health.\nHealth and wellness – includes mental health and substance use support.\nHealth education\nCommunity support services\n\nFor appointments call or text (831) 764-3431or stop by anytime.
URL:https://splg.org/event/teen-salud-mobile-watsonville-high-school-2/2023-10-12/
LOCATION:Watsonville High School\, 250 East Beach St.\, Watsonville\, CA\, 95076\, United States
END:VEVENT
BEGIN:VEVENT
DTSTART;TZID=America/Los_Angeles:20231006T083000
DTEND;TZID=America/Los_Angeles:20231006T120000
DTSTAMP:20260420T084818
CREATED:20230919T234340Z
LAST-MODIFIED:20230919T234934Z
UID:10000163-1696581000-1696593600@splg.org
SUMMARY:Teen Salud Mobile - Watsonville High School
DESCRIPTION:Watsonville High School\n250 East Beach St.\, Watsonville\, CA 95076\n*Dates and times subject to change. Please check with your school nurse for updates. \n \nTeen services offered: \n\nMedical care – sports physicals\, general medical and reproductive health.\nHealth and wellness – includes mental health and substance use support.\nHealth education\nCommunity support services\n\nFor appointments call or text (831) 764-3431or stop by anytime.
URL:https://splg.org/event/teen-salud-mobile-watsonville-high-school-2/2023-10-06/
LOCATION:Watsonville High School\, 250 East Beach St.\, Watsonville\, CA\, 95076\, United States
END:VEVENT
BEGIN:VEVENT
DTSTART;TZID=America/Los_Angeles:20231005T083000
DTEND;TZID=America/Los_Angeles:20231005T120000
DTSTAMP:20260420T084818
CREATED:20230919T234340Z
LAST-MODIFIED:20230919T234934Z
UID:10000175-1696494600-1696507200@splg.org
SUMMARY:Teen Salud Mobile - Watsonville High School
DESCRIPTION:Watsonville High School\n250 East Beach St.\, Watsonville\, CA 95076\n*Dates and times subject to change. Please check with your school nurse for updates. \n \nTeen services offered: \n\nMedical care – sports physicals\, general medical and reproductive health.\nHealth and wellness – includes mental health and substance use support.\nHealth education\nCommunity support services\n\nFor appointments call or text (831) 764-3431or stop by anytime.
URL:https://splg.org/event/teen-salud-mobile-watsonville-high-school-2/2023-10-05/
LOCATION:Watsonville High School\, 250 East Beach St.\, Watsonville\, CA\, 95076\, United States
END:VEVENT
BEGIN:VEVENT
DTSTART;TZID=America/Los_Angeles:20230929T083000
DTEND;TZID=America/Los_Angeles:20230929T120000
DTSTAMP:20260420T084818
CREATED:20230919T234340Z
LAST-MODIFIED:20230919T234934Z
UID:10000162-1695976200-1695988800@splg.org
SUMMARY:Teen Salud Mobile - Watsonville High School
DESCRIPTION:Watsonville High School\n250 East Beach St.\, Watsonville\, CA 95076\n*Dates and times subject to change. Please check with your school nurse for updates. \n \nTeen services offered: \n\nMedical care – sports physicals\, general medical and reproductive health.\nHealth and wellness – includes mental health and substance use support.\nHealth education\nCommunity support services\n\nFor appointments call or text (831) 764-3431or stop by anytime.
URL:https://splg.org/event/teen-salud-mobile-watsonville-high-school-2/2023-09-29/
LOCATION:Watsonville High School\, 250 East Beach St.\, Watsonville\, CA\, 95076\, United States
END:VEVENT
BEGIN:VEVENT
DTSTART;TZID=America/Los_Angeles:20230928T083000
DTEND;TZID=America/Los_Angeles:20230928T120000
DTSTAMP:20260420T084818
CREATED:20230919T234340Z
LAST-MODIFIED:20230919T234934Z
UID:10000146-1695889800-1695902400@splg.org
SUMMARY:Teen Salud Mobile - Watsonville High School
DESCRIPTION:Watsonville High School\n250 East Beach St.\, Watsonville\, CA 95076\n*Dates and times subject to change. Please check with your school nurse for updates. \n \nTeen services offered: \n\nMedical care – sports physicals\, general medical and reproductive health.\nHealth and wellness – includes mental health and substance use support.\nHealth education\nCommunity support services\n\nFor appointments call or text (831) 764-3431or stop by anytime.
URL:https://splg.org/event/teen-salud-mobile-watsonville-high-school-2/2023-09-28/
LOCATION:Watsonville High School\, 250 East Beach St.\, Watsonville\, CA\, 95076\, United States
END:VEVENT
BEGIN:VEVENT
DTSTART;TZID=America/Los_Angeles:20230922T083000
DTEND;TZID=America/Los_Angeles:20230922T120000
DTSTAMP:20260420T084818
CREATED:20230919T234340Z
LAST-MODIFIED:20230919T234934Z
UID:10000161-1695371400-1695384000@splg.org
SUMMARY:Teen Salud Mobile - Watsonville High School
DESCRIPTION:Watsonville High School\n250 East Beach St.\, Watsonville\, CA 95076\n*Dates and times subject to change. Please check with your school nurse for updates. \n \nTeen services offered: \n\nMedical care – sports physicals\, general medical and reproductive health.\nHealth and wellness – includes mental health and substance use support.\nHealth education\nCommunity support services\n\nFor appointments call or text (831) 764-3431or stop by anytime.
URL:https://splg.org/event/teen-salud-mobile-watsonville-high-school-2/2023-09-22/
LOCATION:Watsonville High School\, 250 East Beach St.\, Watsonville\, CA\, 95076\, United States
END:VEVENT
BEGIN:VEVENT
DTSTART;TZID=America/Los_Angeles:20230921T083000
DTEND;TZID=America/Los_Angeles:20230921T120000
DTSTAMP:20260420T084818
CREATED:20230919T234340Z
LAST-MODIFIED:20230919T234934Z
UID:10000145-1695285000-1695297600@splg.org
SUMMARY:Teen Salud Mobile - Watsonville High School
DESCRIPTION:Watsonville High School\n250 East Beach St.\, Watsonville\, CA 95076\n*Dates and times subject to change. Please check with your school nurse for updates. \n \nTeen services offered: \n\nMedical care – sports physicals\, general medical and reproductive health.\nHealth and wellness – includes mental health and substance use support.\nHealth education\nCommunity support services\n\nFor appointments call or text (831) 764-3431or stop by anytime.
URL:https://splg.org/event/teen-salud-mobile-watsonville-high-school-2/2023-09-21/
LOCATION:Watsonville High School\, 250 East Beach St.\, Watsonville\, CA\, 95076\, United States
END:VEVENT
BEGIN:VEVENT
DTSTART;TZID=America/Los_Angeles:20230915T083000
DTEND;TZID=America/Los_Angeles:20230915T120000
DTSTAMP:20260420T084818
CREATED:20230919T234340Z
LAST-MODIFIED:20230919T234934Z
UID:10000174-1694766600-1694779200@splg.org
SUMMARY:Teen Salud Mobile - Watsonville High School
DESCRIPTION:Watsonville High School\n250 East Beach St.\, Watsonville\, CA 95076\n*Dates and times subject to change. Please check with your school nurse for updates. \n \nTeen services offered: \n\nMedical care – sports physicals\, general medical and reproductive health.\nHealth and wellness – includes mental health and substance use support.\nHealth education\nCommunity support services\n\nFor appointments call or text (831) 764-3431or stop by anytime.
URL:https://splg.org/event/teen-salud-mobile-watsonville-high-school-2/2023-09-15/
LOCATION:Watsonville High School\, 250 East Beach St.\, Watsonville\, CA\, 95076\, United States
END:VEVENT
END:VCALENDAR